BEGIN:VCALENDAR
VERSION:2.0
PRODID:-//jEvents 2.0 for Joomla//EN
CALSCALE:GREGORIAN
METHOD:PUBLISH
BEGIN:VTIMEZONE
TZID:Europe/Berlin
BEGIN:STANDARD
DTSTART:20190327T180000
RDATE:20190331T030000
TZOFFSETFROM:+0200
TZOFFSETTO:+0100
TZNAME:Europe/Berlin CET
END:STANDARD
BEGIN:STANDARD
DTSTART:20191027T020000
RDATE:20200329T030000
TZOFFSETFROM:+0200
TZOFFSETTO:+0100
TZNAME:Europe/Berlin CET
END:STANDARD
BEGIN:STANDARD
DTSTART:20201025T020000
RDATE:20210328T030000
TZOFFSETFROM:+0200
TZOFFSETTO:+0100
TZNAME:Europe/Berlin CET
END:STANDARD
BEGIN:STANDARD
DTSTART:20211031T020000
RDATE:20220327T030000
TZOFFSETFROM:+0200
TZOFFSETTO:+0100
TZNAME:Europe/Berlin CET
END:STANDARD
BEGIN:STANDARD
DTSTART:20221030T020000
RDATE:20230326T030000
TZOFFSETFROM:+0200
TZOFFSETTO:+0100
TZNAME:Europe/Berlin CET
END:STANDARD
BEGIN:STANDARD
DTSTART:20231029T020000
RDATE:20240331T030000
TZOFFSETFROM:+0200
TZOFFSETTO:+0100
TZNAME:Europe/Berlin CET
END:STANDARD
BEGIN:STANDARD
DTSTART:20241027T020000
RDATE:20250330T030000
TZOFFSETFROM:+0200
TZOFFSETTO:+0100
TZNAME:Europe/Berlin CET
END:STANDARD
BEGIN:STANDARD
DTSTART:20251026T020000
RDATE:20260329T030000
TZOFFSETFROM:+0200
TZOFFSETTO:+0100
TZNAME:Europe/Berlin CET
END:STANDARD
BEGIN:STANDARD
DTSTART:20261025T020000
RDATE:20270328T030000
TZOFFSETFROM:+0200
TZOFFSETTO:+0100
TZNAME:Europe/Berlin CET
END:STANDARD
BEGIN:STANDARD
DTSTART:20271031T020000
RDATE:20280326T030000
TZOFFSETFROM:+0200
TZOFFSETTO:+0100
TZNAME:Europe/Berlin CET
END:STANDARD
BEGIN:STANDARD
DTSTART:20281029T020000
RDATE:20290325T030000
TZOFFSETFROM:+0200
TZOFFSETTO:+0100
TZNAME:Europe/Berlin CET
END:STANDARD
BEGIN:STANDARD
DTSTART:20291028T020000
RDATE:20300331T030000
TZOFFSETFROM:+0200
TZOFFSETTO:+0100
TZNAME:Europe/Berlin CET
END:STANDARD
BEGIN:DAYLIGHT
DTSTART:20190331T030000
RDATE:20191027T020000
TZOFFSETFROM:+0100
TZOFFSETTO:+0200
TZNAME:Europe/Berlin CEST
END:DAYLIGHT
BEGIN:DAYLIGHT
DTSTART:20200329T030000
RDATE:20201025T020000
TZOFFSETFROM:+0100
TZOFFSETTO:+0200
TZNAME:Europe/Berlin CEST
END:DAYLIGHT
BEGIN:DAYLIGHT
DTSTART:20210328T030000
RDATE:20211031T020000
TZOFFSETFROM:+0100
TZOFFSETTO:+0200
TZNAME:Europe/Berlin CEST
END:DAYLIGHT
BEGIN:DAYLIGHT
DTSTART:20220327T030000
RDATE:20221030T020000
TZOFFSETFROM:+0100
TZOFFSETTO:+0200
TZNAME:Europe/Berlin CEST
END:DAYLIGHT
BEGIN:DAYLIGHT
DTSTART:20230326T030000
RDATE:20231029T020000
TZOFFSETFROM:+0100
TZOFFSETTO:+0200
TZNAME:Europe/Berlin CEST
END:DAYLIGHT
BEGIN:DAYLIGHT
DTSTART:20240331T030000
RDATE:20241027T020000
TZOFFSETFROM:+0100
TZOFFSETTO:+0200
TZNAME:Europe/Berlin CEST
END:DAYLIGHT
BEGIN:DAYLIGHT
DTSTART:20250330T030000
RDATE:20251026T020000
TZOFFSETFROM:+0100
TZOFFSETTO:+0200
TZNAME:Europe/Berlin CEST
END:DAYLIGHT
BEGIN:DAYLIGHT
DTSTART:20260329T030000
RDATE:20261025T020000
TZOFFSETFROM:+0100
TZOFFSETTO:+0200
TZNAME:Europe/Berlin CEST
END:DAYLIGHT
BEGIN:DAYLIGHT
DTSTART:20270328T030000
RDATE:20271031T020000
TZOFFSETFROM:+0100
TZOFFSETTO:+0200
TZNAME:Europe/Berlin CEST
END:DAYLIGHT
BEGIN:DAYLIGHT
DTSTART:20280326T030000
RDATE:20281029T020000
TZOFFSETFROM:+0100
TZOFFSETTO:+0200
TZNAME:Europe/Berlin CEST
END:DAYLIGHT
BEGIN:DAYLIGHT
DTSTART:20290325T030000
RDATE:20291028T020000
TZOFFSETFROM:+0100
TZOFFSETTO:+0200
TZNAME:Europe/Berlin CEST
END:DAYLIGHT
END:VTIMEZONE
BEGIN:VEVENT
UID:cbae6399e9552588ab2f3546aa400b85
CATEGORIES:Verein
CREATED:20200202T151838
SUMMARY:Vereins-Jugendversammlung
DESCRIPTION:<h4><span style="font-size: 24pt;"><strong><span style="color: #ff0000;">Au
 s gegebenem Anlass wird die Jugendversammlung abgesagt.</span></strong></sp
 an></h4><h4><span style="font-size: 24pt;"><strong><span style="color: #ff0
 000;">Den neuen Termin, geben wir nach den Osterferien hier, per Email und 
 per Aushang bekannt.</span></strong></span></h4><h4>&nbsp;</h4><h4>&nbsp;</
 h4><h4>&nbsp;</h4><h4><span style="font-size: 12pt;"><strong><strong>Einlad
 ung zur <span style="text-decoration: underline;"><a href="images/Termine/2
 019_Einladung_Jugendgeneralversammlung.pdf">Vereinsjugendversammlung</a></s
 pan></strong></strong></span></h4><p>&nbsp;<span style="color: #800080; fon
 t-size: 12pt;"><strong>Am Freitag, den 27. März 2020</strong></span></p><p>
 <span style="color: #800080; font-size: 12pt;"><strong>um 18:00 Uhr</strong
 ></span></p><p><span style="color: #800080; font-size: 12pt;"><strong>im Re
 iterstüble</strong></span></p><p>&nbsp;</p><p><span style="color: #000000; 
 font-size: 12pt;">Wir laden alle Jugendlichen Vereinsmitglieder zwischen 0 
 – 26 Jahren zur Vereinsjugendversammlung ein.</span></p><p>&nbsp;</p><p><st
 rong>Tagesordnung</strong>:</p><ol><li>Begrüßung und Bericht des 1. Jugendv
 orstands</li><li>Kassenbericht</li><li>Beschluss über die Entlastung des Ju
 gendvorstands</li><li>Wünsche, Anträge, Verschiedenes</li></ol><p><strong>&
 nbsp;</strong></p><p>Im Anschluss findet ab 20:00 Uhr die Generalversammlun
 g des Vereins statt zu der Ihr auch Herzlich eingeladen seid.</p><p>Auf Eur
 er kommen freut sich</p><p>Fabian, Michaela, Amelie, Lisa, Hannah, Lisa</p>
 <p>(die Jugendvorstandschaft der Pferdefreunde Wertachau)</p>
X-ALT-DESC;FMTTYPE=text/html:<h4><span style="font-size: 24pt;"><strong><span style="color: #ff0000;">Au
 s gegebenem Anlass wird die Jugendversammlung abgesagt.</span></strong></sp
 an></h4><h4><span style="font-size: 24pt;"><strong><span style="color: #ff0
 000;">Den neuen Termin, geben wir nach den Osterferien hier, per Email und 
 per Aushang bekannt.</span></strong></span></h4><h4>&nbsp;</h4><h4>&nbsp;</
 h4><h4>&nbsp;</h4><h4><span style="font-size: 12pt;"><strong><strong>Einlad
 ung zur <span style="text-decoration: underline;"><a href="https://pferdefr
 eunde-wertachau.de/images/Termine/2019_Einladung_Jugendgeneralversammlung.p
 df">Vereinsjugendversammlung</a></span></strong></strong></span></h4><p>&nb
 sp;<span style="color: #800080; font-size: 12pt;"><strong>Am Freitag, den 2
 7. März 2020</strong></span></p><p><span style="color: #800080; font-size: 
 12pt;"><strong>um 18:00 Uhr</strong></span></p><p><span style="color: #8000
 80; font-size: 12pt;"><strong>im Reiterstüble</strong></span></p><p>&nbsp;<
 /p><p><span style="color: #000000; font-size: 12pt;">Wir laden alle Jugendl
 ichen Vereinsmitglieder zwischen 0 – 26 Jahren zur Vereinsjugendversammlung
  ein.</span></p><p>&nbsp;</p><p><strong>Tagesordnung</strong>:</p><ol><li>B
 egrüßung und Bericht des 1. Jugendvorstands</li><li>Kassenbericht</li><li>B
 eschluss über die Entlastung des Jugendvorstands</li><li>Wünsche, Anträge, 
 Verschiedenes</li></ol><p><strong>&nbsp;</strong></p><p>Im Anschluss findet
  ab 20:00 Uhr die Generalversammlung des Vereins statt zu der Ihr auch Herz
 lich eingeladen seid.</p><p>Auf Eurer kommen freut sich</p><p>Fabian, Micha
 ela, Amelie, Lisa, Hannah, Lisa</p><p>(die Jugendvorstandschaft der Pferdef
 reunde Wertachau)</p>
DTSTAMP:20260419T142812
DTSTART;TZID=Europe/Berlin:20200327T180000
DTEND;TZID=Europe/Berlin:20200327T200000
SEQUENCE:0
TRANSP:OPAQUE
END:VEVENT
END:VCALENDAR